BEGIN:VCALENDAR
VERSION:2.0
PRODID:-//jpnsi.org//NONSGML kigkonsult.se iCalcreator 2.30.10//
CALSCALE:GREGORIAN
METHOD:PUBLISH
UID:a64c8633-d1cb-419f-9904-1095ac4b3e74
X-WR-CALDESC:Advocacy & Community Engagement Board Committee Meeting where 
 committee member and staff discuss issues surrounding relevant campaigns.
X-WR-RELCALID:acfc3f7d7ba6c3f9196885c44a701c12
X-WR-TIMEZONE:America/Chicago
BEGIN:VTIMEZONE
TZID:America/Chicago
BEGIN:STANDARD
TZNAME:CST
DTSTART:20251102T020000
TZOFFSETFROM:-0500
TZOFFSETTO:-0600
RDATE:20261101T020000
RDATE:20271107T020000
END:STANDARD
BEGIN:DAYLIGHT
TZNAME:CDT
DTSTART:20260308T020000
TZOFFSETFROM:-0600
TZOFFSETTO:-0500
RDATE:20270314T020000
END:DAYLIGHT
END:VTIMEZONE
BEGIN:VEVENT
UID:bbc14c21-ee2c-41b4-a032-c4de332ca2f1
DTSTAMP:20260423T202725Z
DESCRIPTION:Advocacy & Community Engagement Board Committee Meeting where c
 ommittee member and staff discuss issues surrounding relevant campaigns.
DTSTART;TZID=America/Chicago:20260901T180000
DTEND;TZID=America/Chicago:20260901T193000
LOCATION:
SUMMARY:Advocacy & Community Engagement Board Committee Meeting
END:VEVENT
END:VCALENDAR
