BEGIN:VCALENDAR
VERSION:2.0
PRODID:-//jpnsi.org//NONSGML kigkonsult.se iCalcreator 2.30.10//
CALSCALE:GREGORIAN
METHOD:PUBLISH
UID:bf921e61-c2a8-498b-8855-e149231a0b23
X-WR-CALDESC:JPNSI Bi-Monthly Board Meeting
X-WR-RELCALID:7ed88da7e9703cd1ce6c068b387ceb50
X-WR-TIMEZONE:America/Chicago
BEGIN:VTIMEZONE
TZID:America/Chicago
BEGIN:STANDARD
TZNAME:CST
DTSTART:20251102T020000
TZOFFSETFROM:-0500
TZOFFSETTO:-0600
RDATE:20261101T020000
RDATE:20271107T020000
END:STANDARD
BEGIN:DAYLIGHT
TZNAME:CDT
DTSTART:20260308T020000
TZOFFSETFROM:-0600
TZOFFSETTO:-0500
RDATE:20270314T020000
END:DAYLIGHT
END:VTIMEZONE
BEGIN:VEVENT
UID:622290eb-f61b-47fd-ac15-b92bc1ef20c1
DTSTAMP:20260423T173227Z
DESCRIPTION:JPNSI Bi-Monthly Board Meeting
DTSTART;TZID=America/Chicago:20260713T180000
DTEND;TZID=America/Chicago:20260713T193000
LOCATION:
SUMMARY:Jane Place Board Meeting
END:VEVENT
END:VCALENDAR
