BEGIN:VCALENDAR
VERSION:2.0
PRODID:-//jpnsi.org//NONSGML kigkonsult.se iCalcreator 2.30.10//
CALSCALE:GREGORIAN
METHOD:PUBLISH
UID:b28b56bf-6fb9-4bd9-83e0-9700d2a1c2f6
X-WR-CALDESC:Advocacy & Community Engagement Board Committee Meeting where 
 committee member and staff discuss issues surrounding relevant campaigns.
X-WR-RELCALID:857228cf2a3d303841d11d4dcd01a6bc
X-WR-TIMEZONE:America/Chicago
BEGIN:VTIMEZONE
TZID:America/Chicago
BEGIN:STANDARD
TZNAME:CST
DTSTART:20251102T020000
TZOFFSETFROM:-0500
TZOFFSETTO:-0600
RDATE:20261101T020000
RDATE:20271107T020000
END:STANDARD
BEGIN:DAYLIGHT
TZNAME:CDT
DTSTART:20260308T020000
TZOFFSETFROM:-0600
TZOFFSETTO:-0500
RDATE:20270314T020000
END:DAYLIGHT
END:VTIMEZONE
BEGIN:VEVENT
UID:eb5e41f7-57be-4571-bb43-7c9304ca1d75
DTSTAMP:20260423T162121Z
DESCRIPTION:Advocacy & Community Engagement Board Committee Meeting where c
 ommittee member and staff discuss issues surrounding relevant campaigns.
DTSTART;TZID=America/Chicago:20260602T180000
DTEND;TZID=America/Chicago:20260602T193000
LOCATION:
SUMMARY:Advocacy & Community Engagement Board Committee Meeting
END:VEVENT
END:VCALENDAR
