BEGIN:VCALENDAR
VERSION:2.0
PRODID:-//jpnsi.org//NONSGML kigkonsult.se iCalcreator 2.30.10//
CALSCALE:GREGORIAN
METHOD:PUBLISH
UID:b51985c3-34a6-4693-bcfc-c55a885757a6
X-WR-CALDESC:Advocacy & Community Engagement Board Committee Meeting where 
 committee member and staff discuss issues surrounding relevant campaigns.
X-WR-RELCALID:f759d7a2aaa3adfa3b57ae828235c24b
X-WR-TIMEZONE:America/Chicago
BEGIN:VTIMEZONE
TZID:America/Chicago
BEGIN:STANDARD
TZNAME:CST
DTSTART:20251102T020000
TZOFFSETFROM:-0500
TZOFFSETTO:-0600
RDATE:20261101T020000
END:STANDARD
BEGIN:DAYLIGHT
TZNAME:CDT
DTSTART:20260308T020000
TZOFFSETFROM:-0600
TZOFFSETTO:-0500
RDATE:20270314T020000
END:DAYLIGHT
END:VTIMEZONE
BEGIN:VEVENT
UID:38d0b2d9-e003-4e87-8e25-ddaefaada521
DTSTAMP:20260423T133235Z
DESCRIPTION:Advocacy & Community Engagement Board Committee Meeting where c
 ommittee member and staff discuss issues surrounding relevant campaigns.
DTSTART;TZID=America/Chicago:20260407T180000
DTEND;TZID=America/Chicago:20260407T193000
LOCATION:
SUMMARY:Advocacy & Community Engagement Board Committee Meeting
END:VEVENT
END:VCALENDAR
