BEGIN:VCALENDAR
VERSION:2.0
PRODID:-//jpnsi.org//NONSGML kigkonsult.se iCalcreator 2.30.10//
CALSCALE:GREGORIAN
METHOD:PUBLISH
UID:1d10a4dd-1ce4-4373-8195-9fe36332cca1
X-WR-CALDESC:JPNSI Bi-Monthly Board Meeting
X-WR-RELCALID:a688ddd9643364ac1f7dc8c190780272
X-WR-TIMEZONE:America/Chicago
BEGIN:VTIMEZONE
TZID:America/Chicago
BEGIN:STANDARD
TZNAME:CST
DTSTART:20251102T020000
TZOFFSETFROM:-0500
TZOFFSETTO:-0600
RDATE:20261101T020000
END:STANDARD
BEGIN:DAYLIGHT
TZNAME:CDT
DTSTART:20250309T020000
TZOFFSETFROM:-0600
TZOFFSETTO:-0500
RDATE:20260308T020000
RDATE:20270314T020000
END:DAYLIGHT
END:VTIMEZONE
BEGIN:VEVENT
UID:97d6ee5d-47e2-4491-8276-b204927ddfa9
DTSTAMP:20260423T145603Z
DESCRIPTION:JPNSI Bi-Monthly Board Meeting
DTSTART;TZID=America/Chicago:20260309T180000
DTEND;TZID=America/Chicago:20260309T193000
LOCATION:
SUMMARY:Jane Place Board Meeting
END:VEVENT
END:VCALENDAR
