BEGIN:VCALENDAR
VERSION:2.0
PRODID:-//jpnsi.org//NONSGML kigkonsult.se iCalcreator 2.30.10//
CALSCALE:GREGORIAN
METHOD:PUBLISH
UID:4fb05e0d-2740-43e6-8c96-783a6008c621
X-WR-CALDESC:Advocacy & Community Engagement Board Committee Meeting where 
 committee member and staff discuss issues surrounding relevant campaigns.
X-WR-RELCALID:570a65e924691d605621cacbe43fa8e6
X-WR-TIMEZONE:America/Chicago
BEGIN:VTIMEZONE
TZID:America/Chicago
BEGIN:STANDARD
TZNAME:CST
DTSTART:20251102T020000
TZOFFSETFROM:-0500
TZOFFSETTO:-0600
RDATE:20261101T020000
END:STANDARD
BEGIN:DAYLIGHT
TZNAME:CDT
DTSTART:20250309T020000
TZOFFSETFROM:-0600
TZOFFSETTO:-0500
RDATE:20260308T020000
RDATE:20270314T020000
END:DAYLIGHT
END:VTIMEZONE
BEGIN:VEVENT
UID:6f1f3df8-b7e8-4f1d-b126-f1a9f34f2471
DTSTAMP:20260423T161241Z
DESCRIPTION:Advocacy & Community Engagement Board Committee Meeting where c
 ommittee member and staff discuss issues surrounding relevant campaigns.
DTSTART;TZID=America/Chicago:20260203T180000
DTEND;TZID=America/Chicago:20260203T193000
LOCATION:
SUMMARY:Advocacy & Community Engagement Board Committee Meeting
END:VEVENT
END:VCALENDAR
