BEGIN:VCALENDAR
VERSION:2.0
PRODID:-//jpnsi.org//NONSGML kigkonsult.se iCalcreator 2.30.10//
CALSCALE:GREGORIAN
METHOD:PUBLISH
UID:a87e09e9-e72b-4da0-8000-b8e802e76c35
X-WR-CALDESC:JPNSI Bi-Monthly Board Meeting
X-WR-RELCALID:f54f076a9aaff91bc5815fbec537d16b
X-WR-TIMEZONE:America/Chicago
BEGIN:VTIMEZONE
TZID:America/Chicago
BEGIN:STANDARD
TZNAME:CST
DTSTART:20251102T020000
TZOFFSETFROM:-0500
TZOFFSETTO:-0600
RDATE:20261101T020000
END:STANDARD
BEGIN:DAYLIGHT
TZNAME:CDT
DTSTART:20250309T020000
TZOFFSETFROM:-0600
TZOFFSETTO:-0500
RDATE:20260308T020000
RDATE:20270314T020000
END:DAYLIGHT
END:VTIMEZONE
BEGIN:VEVENT
UID:beb0700b-03e2-4183-b537-da25ef59e779
DTSTAMP:20260423T173227Z
DESCRIPTION:JPNSI Bi-Monthly Board Meeting
DTSTART;TZID=America/Chicago:20260112T180000
DTEND;TZID=America/Chicago:20260112T193000
LOCATION:
SUMMARY:Jane Place Board Meeting
END:VEVENT
END:VCALENDAR
