BEGIN:VCALENDAR
VERSION:2.0
PRODID:-//jpnsi.org//NONSGML kigkonsult.se iCalcreator 2.30.10//
CALSCALE:GREGORIAN
METHOD:PUBLISH
UID:5c85a701-8657-477b-aa9b-e9e8e940f304
X-WR-CALDESC:Advocacy & Community Engagement Board Committee Meeting where 
 committee member and staff discuss issues surrounding relevant campaigns.
X-WR-RELCALID:03f4d6e850ed2effc6f830a66b8bbb16
X-WR-TIMEZONE:America/Chicago
BEGIN:VTIMEZONE
TZID:America/Chicago
BEGIN:STANDARD
TZNAME:CST
DTSTART:20251102T020000
TZOFFSETFROM:-0500
TZOFFSETTO:-0600
RDATE:20261101T020000
END:STANDARD
BEGIN:DAYLIGHT
TZNAME:CDT
DTSTART:20250309T020000
TZOFFSETFROM:-0600
TZOFFSETTO:-0500
RDATE:20260308T020000
RDATE:20270314T020000
END:DAYLIGHT
END:VTIMEZONE
BEGIN:VEVENT
UID:e8810dd5-baa5-4289-a855-84de421adbb9
DTSTAMP:20260423T190420Z
DESCRIPTION:Advocacy & Community Engagement Board Committee Meeting where c
 ommittee member and staff discuss issues surrounding relevant campaigns.
DTSTART;TZID=America/Chicago:20251202T180000
DTEND;TZID=America/Chicago:20251202T193000
LOCATION:
SUMMARY:Advocacy & Community Engagement Board Committee Meeting
END:VEVENT
END:VCALENDAR
