BEGIN:VCALENDAR
VERSION:2.0
PRODID:-//jpnsi.org//NONSGML kigkonsult.se iCalcreator 2.30.10//
CALSCALE:GREGORIAN
METHOD:PUBLISH
UID:35649085-96c1-49d8-9cf5-32ccbd151be5
X-WR-CALDESC:JPNSI Bi-Monthly Board Meeting
X-WR-RELCALID:22e495f6d89e94af1fb8cfc27e280c2e
X-WR-TIMEZONE:America/Chicago
BEGIN:VTIMEZONE
TZID:America/Chicago
BEGIN:STANDARD
TZNAME:CST
DTSTART:20251102T020000
TZOFFSETFROM:-0500
TZOFFSETTO:-0600
RDATE:20261101T020000
END:STANDARD
BEGIN:DAYLIGHT
TZNAME:CDT
DTSTART:20250309T020000
TZOFFSETFROM:-0600
TZOFFSETTO:-0500
RDATE:20260308T020000
RDATE:20270314T020000
END:DAYLIGHT
END:VTIMEZONE
BEGIN:VEVENT
UID:168a9bfe-d791-43a1-a2f9-a43f2276d1cc
DTSTAMP:20260423T202428Z
DESCRIPTION:JPNSI Bi-Monthly Board Meeting
DTSTART;TZID=America/Chicago:20251110T180000
DTEND;TZID=America/Chicago:20251110T193000
LOCATION:
SUMMARY:Jane Place Board Meeting
END:VEVENT
END:VCALENDAR
